BEGIN:VCALENDAR
VERSION:2.0
PRODID:-//Tukios.com/
BEGIN:VEVENT
UID:c995c694-7ead-4c37-b3b1-007af348aa58@www.huntfh.com
DTSTAMP:20260419T233049Z
DTSTART:20260421
SUMMARY:Burial
DESCRIPTION:
URL:https://www.huntfh.com/obituaries/dotty-cannon
LOCATION: 6 Skullbone Rd.  Bradford TN 38316
GEO:36.0832655;-88.7614624
END:VEVENT
END:VCALENDAR