BEGIN:VCALENDAR
VERSION:2.0
PRODID:-//Tukios.com/
BEGIN:VEVENT
UID:c4111cc9-329c-4a2e-97e8-8f72a1f967a0@www.huntfh.com
DTSTAMP:20260419T233519Z
DTSTART:20260421T190000Z
DTEND:20260421T200000Z
SUMMARY:Funeral Service
DESCRIPTION:
URL:https://www.huntfh.com/obituaries/dotty-cannon
LOCATION: 223 E Main St  Bradford TN 38316
GEO:36.0760987;-88.8087025
END:VEVENT
END:VCALENDAR