BEGIN:VCALENDAR
VERSION:2.0
PRODID:-//Tukios.com/
BEGIN:VEVENT
UID:c466fe3f-d68f-4cf3-aa46-95fbd165fcd2@www.huntfh.com
DTSTAMP:20260419T232849Z
DTSTART:20260421T170000Z
DTEND:20260421T190000Z
SUMMARY:Visitation
DESCRIPTION:
URL:https://www.huntfh.com/obituaries/dotty-cannon
LOCATION: 223 E Main St  Bradford TN 38316
GEO:36.0760987;-88.8087025
END:VEVENT
END:VCALENDAR